BEGIN:VCALENDAR
VERSION:2.0
PRODID:-//Blade and Edge Figure Skating Club - ECPv6.15.12.2//NONSGML v1.0//EN
CALSCALE:GREGORIAN
METHOD:PUBLISH
X-ORIGINAL-URL:https://bladeandedgefigureskating.com
X-WR-CALDESC:Events for Blade and Edge Figure Skating Club
REFRESH-INTERVAL;VALUE=DURATION:PT1H
X-Robots-Tag:noindex
X-PUBLISHED-TTL:PT1H
BEGIN:VTIMEZONE
TZID:UTC
BEGIN:STANDARD
TZOFFSETFROM:+0000
TZOFFSETTO:+0000
TZNAME:UTC
DTSTART:20210101T000000
END:STANDARD
END:VTIMEZONE
BEGIN:VEVENT
DTSTART;TZID=UTC:20230119T170000
DTEND;TZID=UTC:20230119T170000
DTSTAMP:20260425T014234
CREATED:20220928T205734Z
LAST-MODIFIED:20220928T205734Z
UID:2300-1674147600-1674147600@bladeandedgefigureskating.com
SUMMARY:On Ice Skating Skills & Transitions Class
DESCRIPTION:
URL:https://bladeandedgefigureskating.com/calendar/on-ice-skating-skills-transitions-class-16/
CATEGORIES:Calendar
END:VEVENT
BEGIN:VEVENT
DTSTART;TZID=UTC:20230117T063000
DTEND;TZID=UTC:20230117T063000
DTSTAMP:20260425T014234
CREATED:20220928T205416Z
LAST-MODIFIED:20220928T205416Z
UID:2266-1673937000-1673937000@bladeandedgefigureskating.com
SUMMARY:On Ice Edge & Power Class
DESCRIPTION:
URL:https://bladeandedgefigureskating.com/calendar/on-ice-edge-power-class-16/
CATEGORIES:Calendar
END:VEVENT
BEGIN:VEVENT
DTSTART;TZID=UTC:20230112T173000
DTEND;TZID=UTC:20230112T180000
DTSTAMP:20260425T014234
CREATED:20220928T211021Z
LAST-MODIFIED:20221111T165004Z
UID:2341-1673544600-1673546400@bladeandedgefigureskating.com
SUMMARY:Off Ice Control & Agility
DESCRIPTION:
URL:https://bladeandedgefigureskating.com/calendar/off-ice-control-agility-15/
CATEGORIES:Calendar
END:VEVENT
BEGIN:VEVENT
DTSTART;TZID=UTC:20230112T170000
DTEND;TZID=UTC:20230112T170000
DTSTAMP:20260425T014234
CREATED:20220928T205734Z
LAST-MODIFIED:20220928T205734Z
UID:2299-1673542800-1673542800@bladeandedgefigureskating.com
SUMMARY:On Ice Skating Skills & Transitions Class
DESCRIPTION:
URL:https://bladeandedgefigureskating.com/calendar/on-ice-skating-skills-transitions-class-15/
CATEGORIES:Calendar
END:VEVENT
BEGIN:VEVENT
DTSTART;TZID=UTC:20230110T063000
DTEND;TZID=UTC:20230110T063000
DTSTAMP:20260425T014234
CREATED:20220928T205402Z
LAST-MODIFIED:20220928T205402Z
UID:2265-1673332200-1673332200@bladeandedgefigureskating.com
SUMMARY:On Ice Edge & Power Class
DESCRIPTION:
URL:https://bladeandedgefigureskating.com/calendar/on-ice-edge-power-class-15/
CATEGORIES:Calendar
END:VEVENT
BEGIN:VEVENT
DTSTART;TZID=UTC:20230105T173000
DTEND;TZID=UTC:20230105T173000
DTSTAMP:20260425T014234
CREATED:20220928T211021Z
LAST-MODIFIED:20220928T211021Z
UID:2340-1672939800-1672939800@bladeandedgefigureskating.com
SUMMARY:Off Ice Control & Agility
DESCRIPTION:
URL:https://bladeandedgefigureskating.com/calendar/off-ice-control-agility-14/
CATEGORIES:Calendar
END:VEVENT
BEGIN:VEVENT
DTSTART;TZID=UTC:20230105T170000
DTEND;TZID=UTC:20230105T170000
DTSTAMP:20260425T014234
CREATED:20220928T205734Z
LAST-MODIFIED:20220928T205734Z
UID:2298-1672938000-1672938000@bladeandedgefigureskating.com
SUMMARY:On Ice Skating Skills & Transitions Class
DESCRIPTION:
URL:https://bladeandedgefigureskating.com/calendar/on-ice-skating-skills-transitions-class-14/
CATEGORIES:Calendar
END:VEVENT
BEGIN:VEVENT
DTSTART;TZID=UTC:20230103T063000
DTEND;TZID=UTC:20230103T063000
DTSTAMP:20260425T014234
CREATED:20220928T205401Z
LAST-MODIFIED:20220928T205401Z
UID:2264-1672727400-1672727400@bladeandedgefigureskating.com
SUMMARY:On Ice Edge & Power Class
DESCRIPTION:
URL:https://bladeandedgefigureskating.com/calendar/on-ice-edge-power-class-14/
CATEGORIES:Calendar
END:VEVENT
BEGIN:VEVENT
DTSTART;TZID=UTC:20221229T173000
DTEND;TZID=UTC:20221229T173000
DTSTAMP:20260425T014234
CREATED:20220928T211021Z
LAST-MODIFIED:20220928T211021Z
UID:2339-1672335000-1672335000@bladeandedgefigureskating.com
SUMMARY:Off Ice Control & Agility
DESCRIPTION:
URL:https://bladeandedgefigureskating.com/calendar/off-ice-control-agility-13/
CATEGORIES:Calendar
END:VEVENT
BEGIN:VEVENT
DTSTART;TZID=UTC:20221229T170000
DTEND;TZID=UTC:20221229T170000
DTSTAMP:20260425T014234
CREATED:20220928T205734Z
LAST-MODIFIED:20220928T205734Z
UID:2297-1672333200-1672333200@bladeandedgefigureskating.com
SUMMARY:On Ice Skating Skills & Transitions Class
DESCRIPTION:
URL:https://bladeandedgefigureskating.com/calendar/on-ice-skating-skills-transitions-class-13/
CATEGORIES:Calendar
END:VEVENT
BEGIN:VEVENT
DTSTART;TZID=UTC:20221227T063000
DTEND;TZID=UTC:20221227T063000
DTSTAMP:20260425T014234
CREATED:20220928T205401Z
LAST-MODIFIED:20220928T205401Z
UID:2263-1672122600-1672122600@bladeandedgefigureskating.com
SUMMARY:On Ice Edge & Power Class
DESCRIPTION:
URL:https://bladeandedgefigureskating.com/calendar/on-ice-edge-power-class-13/
CATEGORIES:Calendar
END:VEVENT
BEGIN:VEVENT
DTSTART;TZID=UTC:20221222T173000
DTEND;TZID=UTC:20221222T173000
DTSTAMP:20260425T014234
CREATED:20220928T211006Z
LAST-MODIFIED:20220928T211006Z
UID:2338-1671730200-1671730200@bladeandedgefigureskating.com
SUMMARY:Off Ice Control & Agility
DESCRIPTION:
URL:https://bladeandedgefigureskating.com/calendar/off-ice-control-agility-12/
CATEGORIES:Calendar
END:VEVENT
BEGIN:VEVENT
DTSTART;TZID=UTC:20221222T170000
DTEND;TZID=UTC:20221222T170000
DTSTAMP:20260425T014234
CREATED:20220928T205734Z
LAST-MODIFIED:20220928T205734Z
UID:2296-1671728400-1671728400@bladeandedgefigureskating.com
SUMMARY:On Ice Skating Skills & Transitions Class
DESCRIPTION:
URL:https://bladeandedgefigureskating.com/calendar/on-ice-skating-skills-transitions-class-12/
CATEGORIES:Calendar
END:VEVENT
BEGIN:VEVENT
DTSTART;TZID=UTC:20221220T063000
DTEND;TZID=UTC:20221220T063000
DTSTAMP:20260425T014234
CREATED:20220928T205401Z
LAST-MODIFIED:20220928T205401Z
UID:2262-1671517800-1671517800@bladeandedgefigureskating.com
SUMMARY:On Ice Edge & Power Class
DESCRIPTION:
URL:https://bladeandedgefigureskating.com/calendar/on-ice-edge-power-class-12/
CATEGORIES:Calendar
END:VEVENT
BEGIN:VEVENT
DTSTART;TZID=UTC:20221215T173000
DTEND;TZID=UTC:20221215T173000
DTSTAMP:20260425T014234
CREATED:20220928T211006Z
LAST-MODIFIED:20220928T211006Z
UID:2337-1671125400-1671125400@bladeandedgefigureskating.com
SUMMARY:Off Ice Control & Agility
DESCRIPTION:
URL:https://bladeandedgefigureskating.com/calendar/off-ice-control-agility-11/
CATEGORIES:Calendar
END:VEVENT
BEGIN:VEVENT
DTSTART;TZID=UTC:20221215T170000
DTEND;TZID=UTC:20221215T170000
DTSTAMP:20260425T014234
CREATED:20220928T205718Z
LAST-MODIFIED:20220928T205718Z
UID:2295-1671123600-1671123600@bladeandedgefigureskating.com
SUMMARY:On Ice Skating Skills & Transitions Class
DESCRIPTION:
URL:https://bladeandedgefigureskating.com/calendar/on-ice-skating-skills-transitions-class-11/
CATEGORIES:Calendar
END:VEVENT
BEGIN:VEVENT
DTSTART;TZID=UTC:20221213T063000
DTEND;TZID=UTC:20221213T063000
DTSTAMP:20260425T014234
CREATED:20220928T205401Z
LAST-MODIFIED:20220928T205401Z
UID:2261-1670913000-1670913000@bladeandedgefigureskating.com
SUMMARY:On Ice Edge & Power Class
DESCRIPTION:
URL:https://bladeandedgefigureskating.com/calendar/on-ice-edge-power-class-11/
CATEGORIES:Calendar
END:VEVENT
BEGIN:VEVENT
DTSTART;TZID=UTC:20221208T173000
DTEND;TZID=UTC:20221208T173000
DTSTAMP:20260425T014234
CREATED:20220928T211006Z
LAST-MODIFIED:20220928T211006Z
UID:2336-1670520600-1670520600@bladeandedgefigureskating.com
SUMMARY:Off Ice Control & Agility
DESCRIPTION:
URL:https://bladeandedgefigureskating.com/calendar/off-ice-control-agility-10/
CATEGORIES:Calendar
END:VEVENT
BEGIN:VEVENT
DTSTART;TZID=UTC:20221208T170000
DTEND;TZID=UTC:20221208T170000
DTSTAMP:20260425T014234
CREATED:20220928T205718Z
LAST-MODIFIED:20220928T205718Z
UID:2294-1670518800-1670518800@bladeandedgefigureskating.com
SUMMARY:On Ice Skating Skills & Transitions Class
DESCRIPTION:
URL:https://bladeandedgefigureskating.com/calendar/on-ice-skating-skills-transitions-class-10/
CATEGORIES:Calendar
END:VEVENT
BEGIN:VEVENT
DTSTART;TZID=UTC:20221206T063000
DTEND;TZID=UTC:20221206T063000
DTSTAMP:20260425T014234
CREATED:20220928T205401Z
LAST-MODIFIED:20220928T205401Z
UID:2260-1670308200-1670308200@bladeandedgefigureskating.com
SUMMARY:On Ice Edge & Power Class
DESCRIPTION:
URL:https://bladeandedgefigureskating.com/calendar/on-ice-edge-power-class-10/
CATEGORIES:Calendar
END:VEVENT
BEGIN:VEVENT
DTSTART;TZID=UTC:20221201T173000
DTEND;TZID=UTC:20221201T173000
DTSTAMP:20260425T014234
CREATED:20220928T211006Z
LAST-MODIFIED:20220928T211006Z
UID:2335-1669915800-1669915800@bladeandedgefigureskating.com
SUMMARY:Off Ice Control & Agility
DESCRIPTION:
URL:https://bladeandedgefigureskating.com/calendar/off-ice-control-agility-9/
CATEGORIES:Calendar
END:VEVENT
BEGIN:VEVENT
DTSTART;TZID=UTC:20221201T170000
DTEND;TZID=UTC:20221201T170000
DTSTAMP:20260425T014234
CREATED:20220928T205718Z
LAST-MODIFIED:20220928T205718Z
UID:2293-1669914000-1669914000@bladeandedgefigureskating.com
SUMMARY:On Ice Skating Skills & Transitions Class
DESCRIPTION:
URL:https://bladeandedgefigureskating.com/calendar/on-ice-skating-skills-transitions-class-9/
CATEGORIES:Calendar
END:VEVENT
BEGIN:VEVENT
DTSTART;TZID=UTC:20221129T063000
DTEND;TZID=UTC:20221129T063000
DTSTAMP:20260425T014234
CREATED:20220928T205401Z
LAST-MODIFIED:20220928T205401Z
UID:2259-1669703400-1669703400@bladeandedgefigureskating.com
SUMMARY:On Ice Edge & Power Class
DESCRIPTION:
URL:https://bladeandedgefigureskating.com/calendar/on-ice-edge-power-class-9/
CATEGORIES:Calendar
END:VEVENT
BEGIN:VEVENT
DTSTART;TZID=UTC:20221124T173000
DTEND;TZID=UTC:20221124T173000
DTSTAMP:20260425T014234
CREATED:20220928T211006Z
LAST-MODIFIED:20220928T211006Z
UID:2334-1669311000-1669311000@bladeandedgefigureskating.com
SUMMARY:Off Ice Control & Agility
DESCRIPTION:
URL:https://bladeandedgefigureskating.com/calendar/off-ice-control-agility-8/
CATEGORIES:Calendar
END:VEVENT
BEGIN:VEVENT
DTSTART;TZID=UTC:20221124T170000
DTEND;TZID=UTC:20221124T170000
DTSTAMP:20260425T014234
CREATED:20220928T205718Z
LAST-MODIFIED:20220928T205718Z
UID:2292-1669309200-1669309200@bladeandedgefigureskating.com
SUMMARY:On Ice Skating Skills & Transitions Class
DESCRIPTION:
URL:https://bladeandedgefigureskating.com/calendar/on-ice-skating-skills-transitions-class-8/
CATEGORIES:Calendar
END:VEVENT
BEGIN:VEVENT
DTSTART;TZID=UTC:20221122T063000
DTEND;TZID=UTC:20221122T063000
DTSTAMP:20260425T014234
CREATED:20220928T205401Z
LAST-MODIFIED:20220928T205401Z
UID:2258-1669098600-1669098600@bladeandedgefigureskating.com
SUMMARY:On Ice Edge & Power Class
DESCRIPTION:
URL:https://bladeandedgefigureskating.com/calendar/on-ice-edge-power-class-8/
CATEGORIES:Calendar
END:VEVENT
BEGIN:VEVENT
DTSTART;TZID=UTC:20221119T080000
DTEND;TZID=UTC:20221119T110000
DTSTAMP:20260425T014234
CREATED:20221113T135050Z
LAST-MODIFIED:20221113T135050Z
UID:2401-1668844800-1668855600@bladeandedgefigureskating.com
SUMMARY:City Wide Consignment Sale
DESCRIPTION:November 16 at Moylan 5 -7 pm (MPSC)\nNovember 17 at Moylan 5-7 pm (MPSC and B&E)\nNovember 18 at Moylan 5-8 pm (all clubs)\nNovember 19 at Motto McLean 8 am – 11 am (all clubs)
URL:https://bladeandedgefigureskating.com/calendar/city-wide-consignment-sale-4/
LOCATION:Motto McClean Ice Arena\, 5015 S 45th St\, Omaha\, NE\, 68117\, United States
CATEGORIES:Calendar
END:VEVENT
BEGIN:VEVENT
DTSTART;TZID=UTC:20221118T170000
DTEND;TZID=UTC:20221118T200000
DTSTAMP:20260425T014234
CREATED:20221113T134511Z
LAST-MODIFIED:20221113T134511Z
UID:2399-1668790800-1668801600@bladeandedgefigureskating.com
SUMMARY:City Wide Consignment Sale
DESCRIPTION:November 16 at Moylan 5 -7 pm (MPSC)\nNovember 17 at Moylan 5-7 pm (MPSC and B&E)\nNovember 18 at Moylan 5-8 pm (all clubs)\nNovember 19 at Motto McLean 8 am – 11 am (all clubs)
URL:https://bladeandedgefigureskating.com/calendar/city-wide-consignment-sale-3/
LOCATION:Moylan Iceplex\, 12550 West Maple Road\, Omaha\, NE\, 68164\, United States
CATEGORIES:Calendar
END:VEVENT
BEGIN:VEVENT
DTSTART;TZID=UTC:20221117T173000
DTEND;TZID=UTC:20221117T173000
DTSTAMP:20260425T014234
CREATED:20220928T210526Z
LAST-MODIFIED:20220928T210526Z
UID:2330-1668706200-1668706200@bladeandedgefigureskating.com
SUMMARY:Off Ice Control & Agility
DESCRIPTION:
URL:https://bladeandedgefigureskating.com/calendar/off-ice-control-agility-7/
CATEGORIES:Calendar
END:VEVENT
BEGIN:VEVENT
DTSTART;TZID=UTC:20221117T170000
DTEND;TZID=UTC:20221117T190000
DTSTAMP:20260425T014234
CREATED:20221113T134239Z
LAST-MODIFIED:20221113T134602Z
UID:2397-1668704400-1668711600@bladeandedgefigureskating.com
SUMMARY:City Wide Consignment Sale
DESCRIPTION:November 16 at Moylan 5 -7 pm (MPSC)\nNovember 17 at Moylan 5-7 pm (MPSC and B&E)\nNovember 18 at Moylan 5-8 pm (all clubs)\nNovember 19 at Motto McLean 8 am – 11 am (all clubs)
URL:https://bladeandedgefigureskating.com/calendar/city-wide-consignment-sale-2/
LOCATION:Moylan Iceplex\, 12550 West Maple Road\, Omaha\, NE\, 68164\, United States
CATEGORIES:Calendar
END:VEVENT
END:VCALENDAR