BEGIN:VCALENDAR
VERSION:2.0
PRODID:-//Blade and Edge Figure Skating Club - ECPv6.15.12.2//NONSGML v1.0//EN
CALSCALE:GREGORIAN
METHOD:PUBLISH
X-WR-CALNAME:Blade and Edge Figure Skating Club
X-ORIGINAL-URL:https://bladeandedgefigureskating.com
X-WR-CALDESC:Events for Blade and Edge Figure Skating Club
REFRESH-INTERVAL;VALUE=DURATION:PT1H
X-Robots-Tag:noindex
X-PUBLISHED-TTL:PT1H
BEGIN:VTIMEZONE
TZID:UTC
BEGIN:STANDARD
TZOFFSETFROM:+0000
TZOFFSETTO:+0000
TZNAME:UTC
DTSTART:20220101T000000
END:STANDARD
END:VTIMEZONE
BEGIN:VEVENT
DTSTART;TZID=UTC:20230404T063000
DTEND;TZID=UTC:20230404T063000
DTSTAMP:20260424T210243
CREATED:20220928T205446Z
LAST-MODIFIED:20220928T205446Z
UID:2277-1680589800-1680589800@bladeandedgefigureskating.com
SUMMARY:On Ice Edge & Power Class
DESCRIPTION:
URL:https://bladeandedgefigureskating.com/calendar/on-ice-edge-power-class-27/
LOCATION:NE
CATEGORIES:Calendar
END:VEVENT
BEGIN:VEVENT
DTSTART;TZID=UTC:20230330T170000
DTEND;TZID=UTC:20230330T170000
DTSTAMP:20260424T210243
CREATED:20220928T210136Z
LAST-MODIFIED:20220928T210136Z
UID:2310-1680195600-1680195600@bladeandedgefigureskating.com
SUMMARY:On Ice Skating Skills & Transitions Class
DESCRIPTION:
URL:https://bladeandedgefigureskating.com/calendar/on-ice-skating-skills-transitions-class-26/
LOCATION:NE
CATEGORIES:Calendar
END:VEVENT
BEGIN:VEVENT
DTSTART;TZID=UTC:20230328T063000
DTEND;TZID=UTC:20230328T063000
DTSTAMP:20260424T210243
CREATED:20220928T205446Z
LAST-MODIFIED:20220928T205446Z
UID:2276-1679985000-1679985000@bladeandedgefigureskating.com
SUMMARY:On Ice Edge & Power Class
DESCRIPTION:
URL:https://bladeandedgefigureskating.com/calendar/on-ice-edge-power-class-26/
LOCATION:NE
CATEGORIES:Calendar
END:VEVENT
BEGIN:VEVENT
DTSTART;TZID=UTC:20230323T170000
DTEND;TZID=UTC:20230323T170000
DTSTAMP:20260424T210243
CREATED:20220928T210136Z
LAST-MODIFIED:20220928T210136Z
UID:2309-1679590800-1679590800@bladeandedgefigureskating.com
SUMMARY:On Ice Skating Skills & Transitions Class
DESCRIPTION:
URL:https://bladeandedgefigureskating.com/calendar/on-ice-skating-skills-transitions-class-25/
LOCATION:NE
CATEGORIES:Calendar
END:VEVENT
BEGIN:VEVENT
DTSTART;TZID=UTC:20230321T063000
DTEND;TZID=UTC:20230321T063000
DTSTAMP:20260424T210243
CREATED:20220928T205432Z
LAST-MODIFIED:20220928T205432Z
UID:2275-1679380200-1679380200@bladeandedgefigureskating.com
SUMMARY:On Ice Edge & Power Class
DESCRIPTION:
URL:https://bladeandedgefigureskating.com/calendar/on-ice-edge-power-class-25/
LOCATION:NE
CATEGORIES:Calendar
END:VEVENT
BEGIN:VEVENT
DTSTART;TZID=UTC:20230316T170000
DTEND;TZID=UTC:20230316T170000
DTSTAMP:20260424T210243
CREATED:20220928T210136Z
LAST-MODIFIED:20220928T210136Z
UID:2308-1678986000-1678986000@bladeandedgefigureskating.com
SUMMARY:On Ice Skating Skills & Transitions Class
DESCRIPTION:
URL:https://bladeandedgefigureskating.com/calendar/on-ice-skating-skills-transitions-class-24/
LOCATION:NE
CATEGORIES:Calendar
END:VEVENT
BEGIN:VEVENT
DTSTART;TZID=UTC:20230314T063000
DTEND;TZID=UTC:20230314T063000
DTSTAMP:20260424T210243
CREATED:20220928T205432Z
LAST-MODIFIED:20220928T205432Z
UID:2274-1678775400-1678775400@bladeandedgefigureskating.com
SUMMARY:On Ice Edge & Power Class
DESCRIPTION:
URL:https://bladeandedgefigureskating.com/calendar/on-ice-edge-power-class-24/
LOCATION:NE
CATEGORIES:Calendar
END:VEVENT
BEGIN:VEVENT
DTSTART;TZID=UTC:20230311T190000
DTEND;TZID=UTC:20230311T210000
DTSTAMP:20260424T210243
CREATED:20230127T175331Z
LAST-MODIFIED:20230127T175331Z
UID:2447-1678561200-1678568400@bladeandedgefigureskating.com
SUMMARY:Disney on Ice
DESCRIPTION:“Disney On Ice” is coming to Omaha in March! Place your order for tickets to see the show alongside your fellow Blade & Edge Figure Skating Club members. Our group has a section reserved and special group ticket pricing. We will be in Section 105\, Rows AA-CC.\n\n\n\nThe show we are attending as a club is Saturday\, March 11 at 7:00pm at the CHI Center Omaha. Tickets are $28 per person.
URL:https://bladeandedgefigureskating.com/calendar/disney-on-ice/
LOCATION:CHI Center Omaha\, 455 N 10th St\, Omaha\, NE\, 68102\, United States
END:VEVENT
BEGIN:VEVENT
DTSTART;TZID=UTC:20230309T170000
DTEND;TZID=UTC:20230309T170000
DTSTAMP:20260424T210243
CREATED:20220928T210136Z
LAST-MODIFIED:20220928T210136Z
UID:2307-1678381200-1678381200@bladeandedgefigureskating.com
SUMMARY:On Ice Skating Skills & Transitions Class
DESCRIPTION:
URL:https://bladeandedgefigureskating.com/calendar/on-ice-skating-skills-transitions-class-23/
LOCATION:NE
CATEGORIES:Calendar
END:VEVENT
BEGIN:VEVENT
DTSTART;TZID=UTC:20230307T063000
DTEND;TZID=UTC:20230307T063000
DTSTAMP:20260424T210243
CREATED:20220928T205432Z
LAST-MODIFIED:20220928T205432Z
UID:2273-1678170600-1678170600@bladeandedgefigureskating.com
SUMMARY:On Ice Edge & Power Class
DESCRIPTION:
URL:https://bladeandedgefigureskating.com/calendar/on-ice-edge-power-class-23/
LOCATION:NE
CATEGORIES:Calendar
END:VEVENT
BEGIN:VEVENT
DTSTART;TZID=UTC:20230302T173000
DTEND;TZID=UTC:20230302T173000
DTSTAMP:20260424T210243
CREATED:20220928T211026Z
LAST-MODIFIED:20220928T211026Z
UID:2348-1677778200-1677778200@bladeandedgefigureskating.com
SUMMARY:Off Ice Control & Agility
DESCRIPTION:
URL:https://bladeandedgefigureskating.com/calendar/off-ice-control-agility-22/
LOCATION:NE
CATEGORIES:Calendar
END:VEVENT
BEGIN:VEVENT
DTSTART;TZID=UTC:20230302T170000
DTEND;TZID=UTC:20230302T170000
DTSTAMP:20260424T210243
CREATED:20220928T210136Z
LAST-MODIFIED:20220928T210136Z
UID:2306-1677776400-1677776400@bladeandedgefigureskating.com
SUMMARY:On Ice Skating Skills & Transitions Class
DESCRIPTION:
URL:https://bladeandedgefigureskating.com/calendar/on-ice-skating-skills-transitions-class-22/
LOCATION:NE
CATEGORIES:Calendar
END:VEVENT
BEGIN:VEVENT
DTSTART;TZID=UTC:20230228T063000
DTEND;TZID=UTC:20230228T063000
DTSTAMP:20260424T210243
CREATED:20220928T205431Z
LAST-MODIFIED:20220928T205431Z
UID:2272-1677565800-1677565800@bladeandedgefigureskating.com
SUMMARY:On Ice Edge & Power Class
DESCRIPTION:
URL:https://bladeandedgefigureskating.com/calendar/on-ice-edge-power-class-22/
LOCATION:NE
CATEGORIES:Calendar
END:VEVENT
BEGIN:VEVENT
DTSTART;TZID=UTC:20230223T173000
DTEND;TZID=UTC:20230223T173000
DTSTAMP:20260424T210243
CREATED:20220928T211026Z
LAST-MODIFIED:20220928T211026Z
UID:2347-1677173400-1677173400@bladeandedgefigureskating.com
SUMMARY:Off Ice Control & Agility
DESCRIPTION:
URL:https://bladeandedgefigureskating.com/calendar/off-ice-control-agility-21/
LOCATION:NE
CATEGORIES:Calendar
END:VEVENT
BEGIN:VEVENT
DTSTART;TZID=UTC:20230223T170000
DTEND;TZID=UTC:20230223T170000
DTSTAMP:20260424T210243
CREATED:20220928T205935Z
LAST-MODIFIED:20220928T205935Z
UID:2305-1677171600-1677171600@bladeandedgefigureskating.com
SUMMARY:On Ice Skating Skills & Transitions Class
DESCRIPTION:
URL:https://bladeandedgefigureskating.com/calendar/on-ice-skating-skills-transitions-class-21/
LOCATION:NE
CATEGORIES:Calendar
END:VEVENT
BEGIN:VEVENT
DTSTART;TZID=UTC:20230221T063000
DTEND;TZID=UTC:20230221T063000
DTSTAMP:20260424T210243
CREATED:20220928T205431Z
LAST-MODIFIED:20220928T205431Z
UID:2271-1676961000-1676961000@bladeandedgefigureskating.com
SUMMARY:On Ice Edge & Power Class
DESCRIPTION:
URL:https://bladeandedgefigureskating.com/calendar/on-ice-edge-power-class-21/
LOCATION:NE
CATEGORIES:Calendar
END:VEVENT
BEGIN:VEVENT
DTSTART;TZID=UTC:20230216T173000
DTEND;TZID=UTC:20230216T173000
DTSTAMP:20260424T210243
CREATED:20220928T211026Z
LAST-MODIFIED:20220928T211026Z
UID:2346-1676568600-1676568600@bladeandedgefigureskating.com
SUMMARY:Off Ice Control & Agility
DESCRIPTION:
URL:https://bladeandedgefigureskating.com/calendar/off-ice-control-agility-20/
LOCATION:NE
CATEGORIES:Calendar
END:VEVENT
BEGIN:VEVENT
DTSTART;TZID=UTC:20230216T170000
DTEND;TZID=UTC:20230216T170000
DTSTAMP:20260424T210243
CREATED:20220928T205935Z
LAST-MODIFIED:20220928T205935Z
UID:2304-1676566800-1676566800@bladeandedgefigureskating.com
SUMMARY:On Ice Skating Skills & Transitions Class
DESCRIPTION:
URL:https://bladeandedgefigureskating.com/calendar/on-ice-skating-skills-transitions-class-20/
LOCATION:NE
CATEGORIES:Calendar
END:VEVENT
BEGIN:VEVENT
DTSTART;TZID=UTC:20230214T063000
DTEND;TZID=UTC:20230214T063000
DTSTAMP:20260424T210243
CREATED:20220928T205417Z
LAST-MODIFIED:20220928T205417Z
UID:2270-1676356200-1676356200@bladeandedgefigureskating.com
SUMMARY:On Ice Edge & Power Class
DESCRIPTION:
URL:https://bladeandedgefigureskating.com/calendar/on-ice-edge-power-class-20/
LOCATION:NE
CATEGORIES:Calendar
END:VEVENT
BEGIN:VEVENT
DTSTART;TZID=UTC:20230210T193000
DTEND;TZID=UTC:20230210T213000
DTSTAMP:20260424T210243
CREATED:20230127T175009Z
LAST-MODIFIED:20230127T175009Z
UID:2444-1676057400-1676064600@bladeandedgefigureskating.com
SUMMARY:Hockey Night
DESCRIPTION:Blade and Edge FSC Hockey Night at the Liberty First Credit Union Arena
URL:https://bladeandedgefigureskating.com/calendar/hockey-night/
LOCATION:Liberty First Credit Union Arena\, 7300 Q St.\, Ralston\, NE\, 68127\, United States
END:VEVENT
BEGIN:VEVENT
DTSTART;TZID=UTC:20230209T173000
DTEND;TZID=UTC:20230209T173000
DTSTAMP:20260424T210243
CREATED:20220928T211026Z
LAST-MODIFIED:20220928T211026Z
UID:2345-1675963800-1675963800@bladeandedgefigureskating.com
SUMMARY:Off Ice Control & Agility
DESCRIPTION:
URL:https://bladeandedgefigureskating.com/calendar/off-ice-control-agility-19/
LOCATION:NE
CATEGORIES:Calendar
END:VEVENT
BEGIN:VEVENT
DTSTART;TZID=UTC:20230209T170000
DTEND;TZID=UTC:20230209T170000
DTSTAMP:20260424T210243
CREATED:20220928T205935Z
LAST-MODIFIED:20220928T205935Z
UID:2303-1675962000-1675962000@bladeandedgefigureskating.com
SUMMARY:On Ice Skating Skills & Transitions Class
DESCRIPTION:
URL:https://bladeandedgefigureskating.com/calendar/on-ice-skating-skills-transitions-class-19/
LOCATION:NE
CATEGORIES:Calendar
END:VEVENT
BEGIN:VEVENT
DTSTART;TZID=UTC:20230207T063000
DTEND;TZID=UTC:20230207T063000
DTSTAMP:20260424T210243
CREATED:20220928T205417Z
LAST-MODIFIED:20220928T205417Z
UID:2269-1675751400-1675751400@bladeandedgefigureskating.com
SUMMARY:On Ice Edge & Power Class
DESCRIPTION:
URL:https://bladeandedgefigureskating.com/calendar/on-ice-edge-power-class-19/
LOCATION:NE
CATEGORIES:Calendar
END:VEVENT
BEGIN:VEVENT
DTSTART;TZID=UTC:20230202T173000
DTEND;TZID=UTC:20230202T173000
DTSTAMP:20260424T210243
CREATED:20220928T211026Z
LAST-MODIFIED:20220928T211026Z
UID:2344-1675359000-1675359000@bladeandedgefigureskating.com
SUMMARY:Off Ice Control & Agility
DESCRIPTION:
URL:https://bladeandedgefigureskating.com/calendar/off-ice-control-agility-18/
LOCATION:NE
CATEGORIES:Calendar
END:VEVENT
BEGIN:VEVENT
DTSTART;TZID=UTC:20230202T170000
DTEND;TZID=UTC:20230202T170000
DTSTAMP:20260424T210243
CREATED:20220928T205935Z
LAST-MODIFIED:20220928T205935Z
UID:2302-1675357200-1675357200@bladeandedgefigureskating.com
SUMMARY:On Ice Skating Skills & Transitions Class
DESCRIPTION:
URL:https://bladeandedgefigureskating.com/calendar/on-ice-skating-skills-transitions-class-18/
LOCATION:NE
CATEGORIES:Calendar
END:VEVENT
BEGIN:VEVENT
DTSTART;TZID=UTC:20230131T063000
DTEND;TZID=UTC:20230131T063000
DTSTAMP:20260424T210243
CREATED:20220928T205417Z
LAST-MODIFIED:20220928T205417Z
UID:2268-1675146600-1675146600@bladeandedgefigureskating.com
SUMMARY:On Ice Edge & Power Class
DESCRIPTION:
URL:https://bladeandedgefigureskating.com/calendar/on-ice-edge-power-class-18/
LOCATION:NE
CATEGORIES:Calendar
END:VEVENT
BEGIN:VEVENT
DTSTART;TZID=UTC:20230126T173000
DTEND;TZID=UTC:20230126T180000
DTSTAMP:20260424T210243
CREATED:20220928T211021Z
LAST-MODIFIED:20221111T165028Z
UID:2343-1674754200-1674756000@bladeandedgefigureskating.com
SUMMARY:Off Ice Control & Agility
DESCRIPTION:
URL:https://bladeandedgefigureskating.com/calendar/off-ice-control-agility-17/
LOCATION:Moylan Iceplex\, 12550 West Maple Road\, Omaha\, NE\, 68164\, United States
CATEGORIES:Calendar
END:VEVENT
BEGIN:VEVENT
DTSTART;TZID=UTC:20230126T170000
DTEND;TZID=UTC:20230126T170000
DTSTAMP:20260424T210243
CREATED:20220928T205935Z
LAST-MODIFIED:20220928T205935Z
UID:2301-1674752400-1674752400@bladeandedgefigureskating.com
SUMMARY:On Ice Skating Skills & Transitions Class
DESCRIPTION:
URL:https://bladeandedgefigureskating.com/calendar/on-ice-skating-skills-transitions-class-17/
LOCATION:NE
CATEGORIES:Calendar
END:VEVENT
BEGIN:VEVENT
DTSTART;TZID=UTC:20230124T063000
DTEND;TZID=UTC:20230124T063000
DTSTAMP:20260424T210243
CREATED:20220928T205417Z
LAST-MODIFIED:20220928T205417Z
UID:2267-1674541800-1674541800@bladeandedgefigureskating.com
SUMMARY:On Ice Edge & Power Class
DESCRIPTION:
URL:https://bladeandedgefigureskating.com/calendar/on-ice-edge-power-class-17/
LOCATION:NE
CATEGORIES:Calendar
END:VEVENT
BEGIN:VEVENT
DTSTART;TZID=UTC:20230119T173000
DTEND;TZID=UTC:20230119T173000
DTSTAMP:20260424T210243
CREATED:20220928T211021Z
LAST-MODIFIED:20220928T211021Z
UID:2342-1674149400-1674149400@bladeandedgefigureskating.com
SUMMARY:Off Ice Control & Agility
DESCRIPTION:
URL:https://bladeandedgefigureskating.com/calendar/off-ice-control-agility-16/
LOCATION:NE
CATEGORIES:Calendar
END:VEVENT
END:VCALENDAR