BEGIN:VCALENDAR
VERSION:2.0
PRODID:-//Blade and Edge Figure Skating Club - ECPv6.15.12.2//NONSGML v1.0//EN
CALSCALE:GREGORIAN
METHOD:PUBLISH
X-ORIGINAL-URL:https://bladeandedgefigureskating.com
X-WR-CALDESC:Events for Blade and Edge Figure Skating Club
REFRESH-INTERVAL;VALUE=DURATION:PT1H
X-Robots-Tag:noindex
X-PUBLISHED-TTL:PT1H
BEGIN:VTIMEZONE
TZID:UTC
BEGIN:STANDARD
TZOFFSETFROM:+0000
TZOFFSETTO:+0000
TZNAME:UTC
DTSTART:20220101T000000
END:STANDARD
END:VTIMEZONE
BEGIN:VEVENT
DTSTART;VALUE=DATE:20231111
DTEND;VALUE=DATE:20231112
DTSTAMP:20260424T180812
CREATED:20231006T185528Z
LAST-MODIFIED:20231006T185811Z
UID:2515-1699660800-1699747199@bladeandedgefigureskating.com
SUMMARY:Autumn Classic
DESCRIPTION:18th Annual Autumn Classic\nNovember 11\, 2023 \nBlade & Edge Figure Skating Club of Omaha\nMoylan Iceplex \nRegister at EntryEeze
URL:https://bladeandedgefigureskating.com/calendar/2515/
LOCATION:Moylan Iceplex\, 12550 West Maple Road\, Omaha\, NE\, 68164\, United States
CATEGORIES:Calendar
END:VEVENT
BEGIN:VEVENT
DTSTART;VALUE=DATE:20231023
DTEND;VALUE=DATE:20231024
DTSTAMP:20260424T180812
CREATED:20231006T184123Z
LAST-MODIFIED:20231006T184612Z
UID:2513-1698019200-1698105599@bladeandedgefigureskating.com
SUMMARY:Registration Deadline for Autumn Classic
DESCRIPTION:The deadline for registration is October 23rd. Register at EnryEeze.
URL:https://bladeandedgefigureskating.com/calendar/registration-deadline-for-autumn-classic/
LOCATION:NE
CATEGORIES:Calendar
END:VEVENT
BEGIN:VEVENT
DTSTART;TZID=UTC:20230608T190000
DTEND;TZID=UTC:20230608T210000
DTSTAMP:20260424T180812
CREATED:20230517T230804Z
LAST-MODIFIED:20230517T230804Z
UID:2491-1686250800-1686258000@bladeandedgefigureskating.com
SUMMARY:Annual Dinner and Awards Night
DESCRIPTION:Come celebrate the achievements and talents of our extraordinary figure skaters. This special event is dedicated to recognizing the dedication\, hard work\, and passion that our skaters have demonstrated throughout the year. \n 
URL:https://bladeandedgefigureskating.com/calendar/annual-dinner-and-awards-night/
LOCATION:Legends Bar & Grill\, 6920 Pacific St.\, Omaha\, NE\, United States
END:VEVENT
BEGIN:VEVENT
DTSTART;TZID=UTC:20230525T170000
DTEND;TZID=UTC:20230525T170000
DTSTAMP:20260424T180812
CREATED:20220928T210210Z
LAST-MODIFIED:20220928T210210Z
UID:2318-1685034000-1685034000@bladeandedgefigureskating.com
SUMMARY:On Ice Skating Skills & Transitions Class
DESCRIPTION:
URL:https://bladeandedgefigureskating.com/calendar/on-ice-skating-skills-transitions-class-34/
LOCATION:NE
CATEGORIES:Calendar
END:VEVENT
BEGIN:VEVENT
DTSTART;TZID=UTC:20230523T063000
DTEND;TZID=UTC:20230523T063000
DTSTAMP:20260424T180812
CREATED:20220928T205502Z
LAST-MODIFIED:20220928T205502Z
UID:2284-1684823400-1684823400@bladeandedgefigureskating.com
SUMMARY:On Ice Edge & Power Class
DESCRIPTION:
URL:https://bladeandedgefigureskating.com/calendar/on-ice-edge-power-class-34/
LOCATION:NE
CATEGORIES:Calendar
END:VEVENT
BEGIN:VEVENT
DTSTART;TZID=UTC:20230518T170000
DTEND;TZID=UTC:20230518T170000
DTSTAMP:20260424T180812
CREATED:20220928T210210Z
LAST-MODIFIED:20220928T210210Z
UID:2317-1684429200-1684429200@bladeandedgefigureskating.com
SUMMARY:On Ice Skating Skills & Transitions Class
DESCRIPTION:
URL:https://bladeandedgefigureskating.com/calendar/on-ice-skating-skills-transitions-class-33/
LOCATION:NE
CATEGORIES:Calendar
END:VEVENT
BEGIN:VEVENT
DTSTART;TZID=UTC:20230516T063000
DTEND;TZID=UTC:20230516T070000
DTSTAMP:20260424T180812
CREATED:20220928T205502Z
LAST-MODIFIED:20221111T170555Z
UID:2283-1684218600-1684220400@bladeandedgefigureskating.com
SUMMARY:On Ice Edge & Power Class
DESCRIPTION:
URL:https://bladeandedgefigureskating.com/calendar/on-ice-edge-power-class-33/
LOCATION:NE
CATEGORIES:Calendar
END:VEVENT
BEGIN:VEVENT
DTSTART;TZID=UTC:20230511T170000
DTEND;TZID=UTC:20230511T170000
DTSTAMP:20260424T180812
CREATED:20220928T210210Z
LAST-MODIFIED:20220928T210210Z
UID:2316-1683824400-1683824400@bladeandedgefigureskating.com
SUMMARY:On Ice Skating Skills & Transitions Class
DESCRIPTION:
URL:https://bladeandedgefigureskating.com/calendar/on-ice-skating-skills-transitions-class-32/
LOCATION:NE
CATEGORIES:Calendar
END:VEVENT
BEGIN:VEVENT
DTSTART;TZID=UTC:20230509T063000
DTEND;TZID=UTC:20230509T063000
DTSTAMP:20260424T180812
CREATED:20220928T205502Z
LAST-MODIFIED:20220928T205502Z
UID:2282-1683613800-1683613800@bladeandedgefigureskating.com
SUMMARY:On Ice Edge & Power Class
DESCRIPTION:
URL:https://bladeandedgefigureskating.com/calendar/on-ice-edge-power-class-32/
LOCATION:NE
CATEGORIES:Calendar
END:VEVENT
BEGIN:VEVENT
DTSTART;VALUE=DATE:20230507
DTEND;VALUE=DATE:20230508
DTSTAMP:20260424T180812
CREATED:20230314T213206Z
LAST-MODIFIED:20230314T213206Z
UID:2482-1683417600-1683503999@bladeandedgefigureskating.com
SUMMARY:2023 Spring Fling
DESCRIPTION: 33RD ANNUAL SPRING FLING COMPETITION\nU.S. FIGURE SKATING BASIC SKILLS COMPETITION\nSPONSORED BY THE BLADE & EDGE FIGURE SKATING CLUB OF OMAHA  \nMoylan Iceplex\n12550 West Maple Road\, Omaha\, NE\nMay 7\, 2023  \nSchedule to be announced.
URL:https://bladeandedgefigureskating.com/calendar/2023-spring-fling/
LOCATION:Moylan Iceplex\, 12550 West Maple Road\, Omaha\, NE\, 68164\, United States
END:VEVENT
BEGIN:VEVENT
DTSTART;TZID=UTC:20230504T170000
DTEND;TZID=UTC:20230504T170000
DTSTAMP:20260424T180812
CREATED:20220928T210151Z
LAST-MODIFIED:20220928T210151Z
UID:2315-1683219600-1683219600@bladeandedgefigureskating.com
SUMMARY:On Ice Skating Skills & Transitions Class
DESCRIPTION:
URL:https://bladeandedgefigureskating.com/calendar/on-ice-skating-skills-transitions-class-31/
LOCATION:NE
CATEGORIES:Calendar
END:VEVENT
BEGIN:VEVENT
DTSTART;TZID=UTC:20230502T063000
DTEND;TZID=UTC:20230502T063000
DTSTAMP:20260424T180812
CREATED:20220928T205502Z
LAST-MODIFIED:20220928T205502Z
UID:2281-1683009000-1683009000@bladeandedgefigureskating.com
SUMMARY:On Ice Edge & Power Class
DESCRIPTION:
URL:https://bladeandedgefigureskating.com/calendar/on-ice-edge-power-class-31/
LOCATION:NE
CATEGORIES:Calendar
END:VEVENT
BEGIN:VEVENT
DTSTART;TZID=UTC:20230427T170000
DTEND;TZID=UTC:20230427T170000
DTSTAMP:20260424T180812
CREATED:20220928T210151Z
LAST-MODIFIED:20220928T210151Z
UID:2314-1682614800-1682614800@bladeandedgefigureskating.com
SUMMARY:On Ice Skating Skills & Transitions Class
DESCRIPTION:
URL:https://bladeandedgefigureskating.com/calendar/on-ice-skating-skills-transitions-class-30/
LOCATION:NE
CATEGORIES:Calendar
END:VEVENT
BEGIN:VEVENT
DTSTART;TZID=UTC:20230425T063000
DTEND;TZID=UTC:20230425T063000
DTSTAMP:20260424T180812
CREATED:20220928T205447Z
LAST-MODIFIED:20220928T205447Z
UID:2280-1682404200-1682404200@bladeandedgefigureskating.com
SUMMARY:On Ice Edge & Power Class
DESCRIPTION:
URL:https://bladeandedgefigureskating.com/calendar/on-ice-edge-power-class-30/
LOCATION:NE
CATEGORIES:Calendar
END:VEVENT
BEGIN:VEVENT
DTSTART;TZID=UTC:20230420T170000
DTEND;TZID=UTC:20230420T170000
DTSTAMP:20260424T180812
CREATED:20220928T210151Z
LAST-MODIFIED:20220928T210151Z
UID:2313-1682010000-1682010000@bladeandedgefigureskating.com
SUMMARY:On Ice Skating Skills & Transitions Class
DESCRIPTION:
URL:https://bladeandedgefigureskating.com/calendar/on-ice-skating-skills-transitions-class-29/
LOCATION:NE
CATEGORIES:Calendar
END:VEVENT
BEGIN:VEVENT
DTSTART;TZID=UTC:20230418T063000
DTEND;TZID=UTC:20230418T063000
DTSTAMP:20260424T180812
CREATED:20220928T205447Z
LAST-MODIFIED:20220928T205447Z
UID:2279-1681799400-1681799400@bladeandedgefigureskating.com
SUMMARY:On Ice Edge & Power Class
DESCRIPTION:
URL:https://bladeandedgefigureskating.com/calendar/on-ice-edge-power-class-29/
LOCATION:NE
CATEGORIES:Calendar
END:VEVENT
BEGIN:VEVENT
DTSTART;TZID=UTC:20230415T000000
DTEND;TZID=UTC:20230415T235900
DTSTAMP:20260424T180812
CREATED:20230314T211355Z
LAST-MODIFIED:20230314T211633Z
UID:2479-1681516800-1681603140@bladeandedgefigureskating.com
SUMMARY:Deadline for Spring Fling Registration
DESCRIPTION: Competition music for all skaters must be submitted electronically. Competitors must provide music for all events\, as appropriate. Competition music for all events that require music must be submitted electronically via EntryEeze by the competition deadline April 15\, 2023\, at 11:59 pm. Music submitted after April 15\, 2023\, a late fee of $25.00 will apply. 
URL:https://bladeandedgefigureskating.com/calendar/deadline-for-spring-fling-registration/
LOCATION:NE
END:VEVENT
BEGIN:VEVENT
DTSTART;TZID=UTC:20230413T170000
DTEND;TZID=UTC:20230413T170000
DTSTAMP:20260424T180812
CREATED:20220928T210151Z
LAST-MODIFIED:20220928T210151Z
UID:2312-1681405200-1681405200@bladeandedgefigureskating.com
SUMMARY:On Ice Skating Skills & Transitions Class
DESCRIPTION:
URL:https://bladeandedgefigureskating.com/calendar/on-ice-skating-skills-transitions-class-28/
LOCATION:NE
CATEGORIES:Calendar
END:VEVENT
BEGIN:VEVENT
DTSTART;TZID=UTC:20230411T063000
DTEND;TZID=UTC:20230411T063000
DTSTAMP:20260424T180812
CREATED:20220928T205447Z
LAST-MODIFIED:20220928T205447Z
UID:2278-1681194600-1681194600@bladeandedgefigureskating.com
SUMMARY:On Ice Edge & Power Class
DESCRIPTION:
URL:https://bladeandedgefigureskating.com/calendar/on-ice-edge-power-class-28/
LOCATION:NE
CATEGORIES:Calendar
END:VEVENT
BEGIN:VEVENT
DTSTART;TZID=UTC:20230406T170000
DTEND;TZID=UTC:20230406T170000
DTSTAMP:20260424T180812
CREATED:20220928T210151Z
LAST-MODIFIED:20220928T210151Z
UID:2311-1680800400-1680800400@bladeandedgefigureskating.com
SUMMARY:On Ice Skating Skills & Transitions Class
DESCRIPTION:
URL:https://bladeandedgefigureskating.com/calendar/on-ice-skating-skills-transitions-class-27/
LOCATION:NE
CATEGORIES:Calendar
END:VEVENT
BEGIN:VEVENT
DTSTART;TZID=UTC:20230404T063000
DTEND;TZID=UTC:20230404T063000
DTSTAMP:20260424T180812
CREATED:20220928T205446Z
LAST-MODIFIED:20220928T205446Z
UID:2277-1680589800-1680589800@bladeandedgefigureskating.com
SUMMARY:On Ice Edge & Power Class
DESCRIPTION:
URL:https://bladeandedgefigureskating.com/calendar/on-ice-edge-power-class-27/
LOCATION:NE
CATEGORIES:Calendar
END:VEVENT
BEGIN:VEVENT
DTSTART;TZID=UTC:20230330T170000
DTEND;TZID=UTC:20230330T170000
DTSTAMP:20260424T180812
CREATED:20220928T210136Z
LAST-MODIFIED:20220928T210136Z
UID:2310-1680195600-1680195600@bladeandedgefigureskating.com
SUMMARY:On Ice Skating Skills & Transitions Class
DESCRIPTION:
URL:https://bladeandedgefigureskating.com/calendar/on-ice-skating-skills-transitions-class-26/
LOCATION:NE
CATEGORIES:Calendar
END:VEVENT
BEGIN:VEVENT
DTSTART;TZID=UTC:20230328T063000
DTEND;TZID=UTC:20230328T063000
DTSTAMP:20260424T180812
CREATED:20220928T205446Z
LAST-MODIFIED:20220928T205446Z
UID:2276-1679985000-1679985000@bladeandedgefigureskating.com
SUMMARY:On Ice Edge & Power Class
DESCRIPTION:
URL:https://bladeandedgefigureskating.com/calendar/on-ice-edge-power-class-26/
LOCATION:NE
CATEGORIES:Calendar
END:VEVENT
BEGIN:VEVENT
DTSTART;TZID=UTC:20230323T170000
DTEND;TZID=UTC:20230323T170000
DTSTAMP:20260424T180812
CREATED:20220928T210136Z
LAST-MODIFIED:20220928T210136Z
UID:2309-1679590800-1679590800@bladeandedgefigureskating.com
SUMMARY:On Ice Skating Skills & Transitions Class
DESCRIPTION:
URL:https://bladeandedgefigureskating.com/calendar/on-ice-skating-skills-transitions-class-25/
LOCATION:NE
CATEGORIES:Calendar
END:VEVENT
BEGIN:VEVENT
DTSTART;TZID=UTC:20230321T063000
DTEND;TZID=UTC:20230321T063000
DTSTAMP:20260424T180812
CREATED:20220928T205432Z
LAST-MODIFIED:20220928T205432Z
UID:2275-1679380200-1679380200@bladeandedgefigureskating.com
SUMMARY:On Ice Edge & Power Class
DESCRIPTION:
URL:https://bladeandedgefigureskating.com/calendar/on-ice-edge-power-class-25/
LOCATION:NE
CATEGORIES:Calendar
END:VEVENT
BEGIN:VEVENT
DTSTART;TZID=UTC:20230316T170000
DTEND;TZID=UTC:20230316T170000
DTSTAMP:20260424T180812
CREATED:20220928T210136Z
LAST-MODIFIED:20220928T210136Z
UID:2308-1678986000-1678986000@bladeandedgefigureskating.com
SUMMARY:On Ice Skating Skills & Transitions Class
DESCRIPTION:
URL:https://bladeandedgefigureskating.com/calendar/on-ice-skating-skills-transitions-class-24/
LOCATION:NE
CATEGORIES:Calendar
END:VEVENT
BEGIN:VEVENT
DTSTART;TZID=UTC:20230314T063000
DTEND;TZID=UTC:20230314T063000
DTSTAMP:20260424T180812
CREATED:20220928T205432Z
LAST-MODIFIED:20220928T205432Z
UID:2274-1678775400-1678775400@bladeandedgefigureskating.com
SUMMARY:On Ice Edge & Power Class
DESCRIPTION:
URL:https://bladeandedgefigureskating.com/calendar/on-ice-edge-power-class-24/
LOCATION:NE
CATEGORIES:Calendar
END:VEVENT
BEGIN:VEVENT
DTSTART;TZID=UTC:20230311T190000
DTEND;TZID=UTC:20230311T210000
DTSTAMP:20260424T180812
CREATED:20230127T175331Z
LAST-MODIFIED:20230127T175331Z
UID:2447-1678561200-1678568400@bladeandedgefigureskating.com
SUMMARY:Disney on Ice
DESCRIPTION:“Disney On Ice” is coming to Omaha in March! Place your order for tickets to see the show alongside your fellow Blade & Edge Figure Skating Club members. Our group has a section reserved and special group ticket pricing. We will be in Section 105\, Rows AA-CC.\n\n\n\nThe show we are attending as a club is Saturday\, March 11 at 7:00pm at the CHI Center Omaha. Tickets are $28 per person.
URL:https://bladeandedgefigureskating.com/calendar/disney-on-ice/
LOCATION:CHI Center Omaha\, 455 N 10th St\, Omaha\, NE\, 68102\, United States
END:VEVENT
BEGIN:VEVENT
DTSTART;TZID=UTC:20230309T170000
DTEND;TZID=UTC:20230309T170000
DTSTAMP:20260424T180812
CREATED:20220928T210136Z
LAST-MODIFIED:20220928T210136Z
UID:2307-1678381200-1678381200@bladeandedgefigureskating.com
SUMMARY:On Ice Skating Skills & Transitions Class
DESCRIPTION:
URL:https://bladeandedgefigureskating.com/calendar/on-ice-skating-skills-transitions-class-23/
LOCATION:NE
CATEGORIES:Calendar
END:VEVENT
BEGIN:VEVENT
DTSTART;TZID=UTC:20230307T063000
DTEND;TZID=UTC:20230307T063000
DTSTAMP:20260424T180812
CREATED:20220928T205432Z
LAST-MODIFIED:20220928T205432Z
UID:2273-1678170600-1678170600@bladeandedgefigureskating.com
SUMMARY:On Ice Edge & Power Class
DESCRIPTION:
URL:https://bladeandedgefigureskating.com/calendar/on-ice-edge-power-class-23/
LOCATION:NE
CATEGORIES:Calendar
END:VEVENT
END:VCALENDAR